BEGIN:VCALENDAR
VERSION:2.0
PRODID:Imitheme.com 
BEGIN:VEVENT
UID:20260423T1716432132830695
DTSTAMP;TZID=UTC:2026-04-23 17:16:43
DTSTART;TZID=America/Los_Angeles:20260423T171643
DTEND;TZID=America/Los_Angeles:20260423T171643
SUMMARY:Monday Morning Bible Study
LOCATION:High View\, WV
DESCRIPTION:Studying Job
URL:https://timberridgechristianchurch.com/eventer/monday-morning-bible-study-2/
END:VEVENT
END:VCALENDAR
