BEGIN:VCALENDAR
VERSION:2.0
PRODID:Imitheme.com 
BEGIN:VEVENT
UID:20260422T1155591919109205
DTSTAMP;TZID=UTC:2026-04-22 11:55:59
DTSTART;TZID=America/Los_Angeles:20260422T115559
DTEND;TZID=America/Los_Angeles:20260422T115559
SUMMARY:Men's Breakfast
LOCATION:Hayfield Family Restraunt
DESCRIPTION:Breakfast, Fellowship Hayfield Family Restraunt
URL:https://timberridgechristianchurch.com/eventer/mens-breakfast/
END:VEVENT
END:VCALENDAR
